BEGIN:VCALENDAR
VERSION:2.0
PRODID:-//wp-events-plugin.com//7.2.3.1//EN
TZID:Europe/Paris
X-WR-TIMEZONE:Europe/Paris
BEGIN:VEVENT
UID:84@amicale-arec.com
DTSTART;TZID=Europe/Paris:20260319T101500
DTEND;TZID=Europe/Paris:20260319T170000
DTSTAMP:20260307T180031Z
URL:https://amicale-arec.com/events/visites-de-lossuaire-des-brotteaux-et-
 de-la-maison-du-projet-lyon-part-dieu-inscription-a-partir-du-02-03-26-100
 0/
SUMMARY:Visites de l'ossuaire des Brotteaux et de la maison du projet Lyon 
 Part-Dieu - Inscription à partir du 02.03.26 - 10:00
DESCRIPTION:Après inscription en cas d’empêchement merci de prévenir I
 sabelle le Dieu de Ville (Port. : 06.89.10.03.28/Tél. : 04.74.08.59.41 - 
 Courriel : isabelle.lddv]@gmail.com) ou Daniel Charlet (Port. : 06.20.32.4
 4.01- Courriel : danielcharlet@wanadoo.fr)
CATEGORIES:Rhône Alpes
LOCATION:Visites de l'Ossuaire des Brotteaux et de la maison du projet Lyon
  Part-Dieu\, La Chapelle Sainte-Croix - 147 rue de Créqui \, Lyon\, 69006
 \, France
GEO:45.764352;4.847226
X-APPLE-STRUCTURED-LOCATION;VALUE=URI;X-ADDRESS=La Chapelle Sainte-Croix - 
 147 rue de Créqui \, Lyon\, 69006\, France;X-APPLE-RADIUS=100;X-TITLE=Vis
 ites de l'Ossuaire des Brotteaux et de la maison du projet Lyon Part-Dieu:
 geo:45.764352,4.847226
END:VEVENT
BEGIN:VTIMEZONE
TZID:Europe/Paris
X-LIC-LOCATION:Europe/Paris
BEGIN:STANDARD
DTSTART:20251026T020000
TZOFFSETFROM:+0200
TZOFFSETTO:+0100
TZNAME:CET
END:STANDARD
END:VTIMEZONE
END:VCALENDAR