BEGIN:VCALENDAR
VERSION:2.0
PRODID:-//wp-events-plugin.com//7.2.3.1//EN
TZID:Europe/Paris
X-WR-TIMEZONE:Europe/Paris
BEGIN:VEVENT
UID:88@amicale-arec.com
DTSTART;TZID=Europe/Paris:20260521T080000
DTEND;TZID=Europe/Paris:20260521T180000
DTSTAMP:20260417T091921Z
URL:https://amicale-arec.com/events/visite-guidee-de-montelimar-le-21-05-2
 6/
SUMMARY:VISITE GUIDEE DE MONTELIMAR LE 21.05.26
DESCRIPTION:Après inscription en cas d’empêchement prévenir Christian 
 Pivot  (Tél. : 06 14 62 59 73 ou par mail : christian.pivot@bbox.fr) ou D
 aniel Charlet (Tél.  : 06 20 32 44 01 ou par mail : danielcharlet@wanadoo
 .fr)
CATEGORIES:Rhône Alpes
LOCATION:VISITE DE MONTELIMAR\, Office de Tourisme - Allées Provençales -
  Mnt Saint Martin\, Montelimar\, 26200\, France
GEO:44.561494;4.751839
X-APPLE-STRUCTURED-LOCATION;VALUE=URI;X-ADDRESS=Office de Tourisme - Allée
 s Provençales - Mnt Saint Martin\, Montelimar\, 26200\, France;X-APPLE-RA
 DIUS=100;X-TITLE=VISITE DE MONTELIMAR:geo:44.561494,4.751839
END:VEVENT
BEGIN:VTIMEZONE
TZID:Europe/Paris
X-LIC-LOCATION:Europe/Paris
BEGIN:DAYLIGHT
DTSTART:20260329T030000
TZOFFSETFROM:+0100
TZOFFSETTO:+0200
TZNAME:CEST
END:DAYLIGHT
END:VTIMEZONE
END:VCALENDAR