BEGIN:VCALENDAR
VERSION:2.0
PRODID:-//wp-events-plugin.com//7.2.3.1//EN
TZID:Europe/Paris
X-WR-TIMEZONE:Europe/Paris
BEGIN:VEVENT
UID:89@amicale-arec.com
DTSTART;TZID=Europe/Paris:20260519T141500
DTEND;TZID=Europe/Paris:20260519T170000
DTSTAMP:20260421T171938Z
URL:https://amicale-arec.com/events/visite-autour-de-la-rue-saint-denis-et
 -gouter-au-margury-inscription-a-partir-du-22-04-26-1000/
SUMMARY:VISITE AUTOUR DE LA RUE SAINT-DENIS ET GOUTER AU MARGUERY - Inscrip
 tion à partir du 22.04.26 - 10:00
DESCRIPTION:Après inscription en cas d’empêchement merci de prévenir S
 uzanne Thomas  (Tél : 06.03.02.79.88 - Courriel : suzanne.thomas@orange.f
 r) ou Claude Brosse (Tél. : 06.77.24.11.17 - Courriel : claude.brosse@gma
 il.com)
CATEGORIES:Ile de France
LOCATION:VISITE AUTOUR DE LA RUE SAINT DENIS\, Métro Réaumur Sébastopol 
 - Sortie Rue Réaumur\, Paris\, 75002\, France
GEO:48.86618;2.351829
X-APPLE-STRUCTURED-LOCATION;VALUE=URI;X-ADDRESS=Métro Réaumur Sébastopol
  - Sortie Rue Réaumur\, Paris\, 75002\, France;X-APPLE-RADIUS=100;X-TITLE
 =VISITE AUTOUR DE LA RUE SAINT DENIS:geo:48.86618,2.351829
END:VEVENT
BEGIN:VTIMEZONE
TZID:Europe/Paris
X-LIC-LOCATION:Europe/Paris
BEGIN:DAYLIGHT
DTSTART:20260329T030000
TZOFFSETFROM:+0100
TZOFFSETTO:+0200
TZNAME:CEST
END:DAYLIGHT
END:VTIMEZONE
END:VCALENDAR