BEGIN:VCALENDAR
VERSION:2.0
PRODID:-//wp-events-plugin.com//7.2.3.1//EN
TZID:Europe/Paris
X-WR-TIMEZONE:Europe/Paris
BEGIN:VEVENT
UID:82@amicale-arec.com
DTSTART;TZID=Europe/Paris:20260504T133000
DTEND;TZID=Europe/Paris:20260504T161500
DTSTAMP:20260212T131938Z
URL:https://amicale-arec.com/events/sejour-de-randonnees-en-creuse-du-4-au
 -10-mai-2026-inscription-a-partir-du-12-01-26-1400/
SUMMARY:Séjour de randonnées dans la Creuse du 4 au 10 mai 2026 - Inscrip
 tion à partir du 12.02.26 - 10:00
DESCRIPTION:Après inscription en cas d’empêchement merci de prévenir H
 enry Doulat (Port : 06.73.84.59.89 - Courriel : henry.doulat@orange.fr) ou
  Jean-Louis Pallandre (Port. : 06.31.23.09.04 - Courriel : jean-louis.pall
 andre@wanadoo.fr) ou Claude Brosse (Tél. : 06.77.24.11.17 - Courriel : cl
 aude.brosse@gmail.com)
CATEGORIES:Ile de France -Randonnées
LOCATION:Séjour de randonnées en Creuse du 4 au 10 mai 2026\, BASE DE PLE
 IN AIR D'EGUZON - 6 chemin du Pradet\, EGUZON-CHANTOME\, 36270\, France
GEO:46.435113;1.606527
X-APPLE-STRUCTURED-LOCATION;VALUE=URI;X-ADDRESS=BASE DE PLEIN AIR D'EGUZON 
 - 6 chemin du Pradet\, EGUZON-CHANTOME\, 36270\, France;X-APPLE-RADIUS=100
 ;X-TITLE=Séjour de randonnées en Creuse du 4 au 10 mai 2026:geo:46.43511
 3,1.606527
END:VEVENT
BEGIN:VTIMEZONE
TZID:Europe/Paris
X-LIC-LOCATION:Europe/Paris
BEGIN:DAYLIGHT
DTSTART:20260329T030000
TZOFFSETFROM:+0100
TZOFFSETTO:+0200
TZNAME:CEST
END:DAYLIGHT
END:VTIMEZONE
END:VCALENDAR